BEGIN:VCALENDAR
VERSION:2.0
PRODID:-// - ECPv6.15.5//NONSGML v1.0//EN
CALSCALE:GREGORIAN
METHOD:PUBLISH
X-ORIGINAL-URL:https://morgancountyindivisible.org
X-WR-CALDESC:Events for 
REFRESH-INTERVAL;VALUE=DURATION:PT1H
X-Robots-Tag:noindex
X-PUBLISHED-TTL:PT1H
BEGIN:VTIMEZONE
TZID:America/New_York
BEGIN:DAYLIGHT
TZOFFSETFROM:-0500
TZOFFSETTO:-0400
TZNAME:EDT
DTSTART:20250309T070000
END:DAYLIGHT
BEGIN:STANDARD
TZOFFSETFROM:-0400
TZOFFSETTO:-0500
TZNAME:EST
DTSTART:20251102T060000
END:STANDARD
END:VTIMEZONE
BEGIN:VEVENT
DTSTART;TZID=America/New_York:20250326T160000
DTEND;TZID=America/New_York:20250326T180000
DTSTAMP:20260421T193403
CREATED:20250324T005953Z
LAST-MODIFIED:20250324T010019Z
UID:5839-1743004800-1743012000@morgancountyindivisible.org
SUMMARY:ACLU Virtual Town Hall with Joy Reid and Sen. Murphy
DESCRIPTION:Join the ACLU for a virtual town hall on Wednesday\, March 26\, at 4 PM ET\, featuring Senator Chris Murphy (CT) and journalist Joy Reid\, alongside ACLU experts. Together\, we will examine the most pressing threats to civil liberties\, the administration’s escalating attacks on our rights\, and the strategies needed to counter them. \n\n\n\nONLINE EVENT
URL:https://morgancountyindivisible.org/event/aclu-town-hall-with-joy-reid-and-sen-murphy/
END:VEVENT
BEGIN:VEVENT
DTSTART;TZID=America/New_York:20250319T180000
DTEND;TZID=America/New_York:20250319T200000
DTSTAMP:20260421T193403
CREATED:20250312T185838Z
LAST-MODIFIED:20250312T192141Z
UID:5555-1742407200-1742414400@morgancountyindivisible.org
SUMMARY:Postcard and letter writing party!
DESCRIPTION:  \nJoin us on Wednesday March 19th\, in Berkeley Springs from 6:00-8:00pm.  You could also just stop by and grab supplies if you want to write them out at home. Please RSVP here for the address (keeps everyone safe). \nMeet fellow progressives\, get something done\, and take home supplies if you’d like.  See you there!
URL:https://morgancountyindivisible.org/event/postcard-and-letter-writing-party/
END:VEVENT
BEGIN:VEVENT
DTSTART;TZID=America/New_York:20250314T120000
DTEND;TZID=America/New_York:20250314T170000
DTSTAMP:20260421T193403
CREATED:20250312T185502Z
LAST-MODIFIED:20250312T185502Z
UID:5544-1741953600-1741971600@morgancountyindivisible.org
SUMMARY:Join Morgan County WV Indivisible in Washington DC on Friday March 14th
DESCRIPTION:14thNOW Demonstration in Washington DC \nThe United States is under siege from within — hijacked by an illegitimate president and administration and protected by a system unwilling to uphold our constitutional safeguards. \nThe system refuses to act. Now\, the people must. \n#14thNOW\, the historic movement that stood in the breach to stop this authoritarian coup before it started\, extends this movement to ALL\, calling for immediate action against the destruction of our democracy on March 14th with #NowDC. \nIf you are a veteran\, this movement is for you. If you stand with Ukraine and the Free World\, this movement is for you. If you are a federal worker\, this movement is for you.  If you don’t want to lose Social Security\, this movement is for you.  If you were deprived of your vote in 2024\, this movement is for you.  If you’ve changed your mind since the election\, this movement is for you.  If you don’t want to lose your rights\, your safety\, your freedom\, and your country\, this movement is for you. #NowDC is for everyone. \nOn March 14\, 2025\, We the People will change the course of history. \nMarch 14 (3.14) is more than a date — it is a symbol\, it is a statement\, and it is a sign of our story. \n\n3.14 represents Section 3 of the 14th Amendment — the Constitution demands that those who engage in insurrection be barred from office.\n3.14 represents the power of the circle — the universal symbol of infinity\, continuity\, and unbreakability. Just as a circle has no weak or unequal points\, this movement will have no breaks\, no fractures\, no surrender.\nOn March 14\, we peacefully flood Washington\, D.C.\, encircling the institutions of power\, demanding action\, and making our presence undeniable. We will convene at noon on the National Mall between 4th and 6th Streets N.W. Please see the Resources page for more information.\n\nMarch 14 has also been designated as a National Strike Day.  We encourage workers from around the country to join us in DC. \nFourteenth Now! is a peaceful movement.  \nViolence of any kind is not tolerated. \n  \n– https://nowmarch.org/
URL:https://morgancountyindivisible.org/event/join-morgan-county-wv-indivisible-in-washington-dc-on-friday-march-14th/
END:VEVENT
END:VCALENDAR